Workbook

Sheet Sažetak
A1: Temeljem odredbi članka 38. Zakona o proračunu (NN 144/21), članka 134. Zakona o zaštiti prirode (NN 80/13,15/18,14/19, 127/19 i 155/23) i članka 19. Statuta Javne ustanove za upravljanje zaštićenim dijelovima prirode Varaždinske županije ("Službeni vjesnik Varaždinske županije" broj 16/18 i 8/21), Upravno vijeće Javne ustanove za upravljanje zaštićenim dijelovima prirode Varaždinske županije, na 11. sjednici održanoj 28. 09. 2026. godine, donosi:
A3: I. IZMJENE I DOPUNE
A4: FINANCIJSKOG PLANA JAVNE USTANOVE ZA UPRAVLJANJE ZAŠTIĆENIM DIJELOVIMA PRIRODE VARAŽDINSKE ŽUPANIJE ZA 2026. GODINU
A5: I PROJEKCIJE PLANA ZA 2027. I 2028. GODINU
A7: I. OPĆI DIO
A9: SAŽETAK RAČUNA PRIHODA I RASHODA I RAČUNA FINANCIRANJA
A11: Članak 1.
A13: U Financijskom planu Javne ustanove za upravljanje zaštićenim dijelovima prirode Varaždinske županije za 2026. godinu i projekcijama plana za 2027. i 2028. godinu mijenja se članak 1. u dijelu Financijskog plana za 2026. godinu u Sažetku računa prihoda i rashoda, te se dodaje Sažetak računa financiranja i Preneseni višak ili preneseni manjak prihoda nad rashodima, kako slijedi:
A14: Razred i naziv | B14: Plan 2026. | C14: Povećenje/ smanjenje | D14: Novi plan 2026. | E14: Indeks %
A15: 1 | B15: 2 | C15: 3 | D15: 4 | E15: 5(4/2)
A16: A. SAŽETAK RAČUNA PRIHODA I RASHODA
A17: PRIHODI UKUPNO | B17: =B18+B19 -> 839134 | C17: =C18+C19 -> -122332 | D17: =D18+D19 -> 716802 | E17: =IFERROR(D17/B17*100,"-") -> 85.421637
A18: 6 Prihodi poslovanja | B18: 839134 | C18: -125677 | D18: 713457
A19: 7 Prihodi od prodaje nefinancijske imovine | B19: 0 | C19: 3345 | D19: 3345
A20: RASHODI UKUPNO | B20: =B21+B22 -> 849434 | C20: =C21+C22 -> -106921 | D20: =D21+D22 -> 742513 | E20: =IFERROR(D20/B20*100,"-") -> 87.412677
A21: 3 Rashodi poslovanja | B21: 826434 | C21: -169371 | D21: 657063
A22: 4 Rashodi za nabavu nefinancijske imovine | B22: 23000 | C22: 62450 | D22: 85450
A23: RAZLIKA - VIŠAK/MANJAK | B23: =B18+B19-B21-B22 -> -10300 | C23: =C18+C19-C21-C22 -> -15411 | D23: =D18+D19-D21-D22 -> -25711
A25: B. SAŽETAK RAČUNA FINANCIRANJA
A26: 8 Primici od financijske imovine i zaduživanja | B26: ='Račun financiranja'!B6 -> 0 | C26: ='Račun financiranja'!C6 -> 0 | D26: ='Račun financiranja'!D6 -> 0
A27: 5 Izdaci za financijsku imovinu i otplate zajmova | B27: ='Račun financiranja'!B9 -> 0 | C27: ='Račun financiranja'!C9 -> 0 | D27: ='Račun financiranja'!D9 -> 0
A28: NETO FINANCIRANJE | B28: =B26-B27 -> 0 | C28: =C26-C27 -> 0 | D28: =D26-D27 -> 0
A30: UKUPAN DONOS VIŠKA/MANJKA IZ PRETHODNIH GODINA** | B30: 0 | C30: 0 | D30: 0 | E30: 0
A32: C. PRENESENI VIŠAK ILI PRENESENI MANJAK PRIHODA NAD RASHODIMA
A33: MANJAK PRIHODA za pokriće (preneseni) | B33: 0 | C33: 0 | D33: 0
A34: VIŠAK PRIHODA za raspodjelu (preneseni) | B34: 10300 | C34: 15411 | D34: =B34+C34 -> 25711
A35: VIŠAK/MANJAK IZ PRETHODNIH GODINA KOJI ĆE SE POKRITI/RASPOREDITI U PRORAČUNSKOM RAZDOBLJU | B35: =B33+B34 -> 10300 | C35: =C33+C34 -> 15411 | D35: =D33+D34 -> 25711
A37: D. PRORAČUN UKUPNO
A38: PRIHODI I PRIMICI s prenesenim viškom/manjkom | B38: =B18+B19+B26+B35 -> 849434 | C38: =C18+C19+C26+C35 -> -106921 | D38: =D18+D19+D26+D35 -> 742513 | E38: =IFERROR(D38/B38*100,"-") -> 87.412677
A39: RASHODI I IZDACI | B39: =B21+B22+B27 -> 849434 | C39: =C21+C22+C27 -> -106921 | D39: =D21+D22+D27 -> 742513 | E39: =IFERROR(D39/B39*100,"-") -> 87.412677
A40: VIŠAK / MANJAK + NETO FINANCIRANJE | B40: =B23+B35+B28 -> 0 | C40: =C23+C35+C28 -> 0 | D40: =D23+D35+D28 -> 0
A41: ** Napomena: Redak UKUPAN DONOS VIŠKA/MANJKA IZ PRETHODNIH GODINA služi kao informacija i ne uzima se u obzir kod uravnoteženja proračuna, već se proračun uravnotežuje retkom VIŠAK/MANJAK IZ PRETHODNIH GODINA KOJI ĆE SE POKRITI/RASPOREDITI U PRORAČUNSKOM RAZDOBLJU

Sheet Račun prihoda i rashoda
A1: Članak 2.
A3: U članku 2. Financijskog plana Javne ustanove za upravljanje zaštićenim dijelovima prirode Varaždinske županije za 2026. godinu i projekcijama plana za 2027. i 2028. godinu, Prihodi i rashodi te Primici i izdaci iskazani po proračunskim klasifikacijama i utvrđeni u Računu prihoda i rashoda Financijskog plana za 2026. godinu, povećavaju se ili smanjuju kako slijedi:
A5: A. RAČUN PRIHODA I RASHODA
A6: Naziv | B6: Plan 2026. | C6: Povećanje / smanjenje | D6: Novi plan 2026. | E6: Indeks % (3/1)
A7: A1. PRIHODI I RASHODI PREMA EKONOMSKOJ KLASIFIKACIJI
A8: 6 Prihodi poslovanja | B8: 839134 | C8: -125677 | D8: 713457 | E8: 85.02
A9: 63 Pomoći iz inozemstva i od subjekata unutar općeg proračuna | B9: 174248 | C9: 74373 | D9: 248621 | E9: 142.68
A10: 64 Prihodi od imovine | B10: 5300 | C10: -5000 | D10: 300 | E10: 5.66
A11: 66 Prihodi od prodaje proizvoda i robe te pruženih usluga i prihodi od donacija te povrati po protestiranim jamstvima | B11: 48000 | C11: -45000 | D11: 3000 | E11: 6.25
A12: 67 Prihodi iz nadležnog proračuna i od HZZO-a temeljem ugovornih obveza | B12: 611521 | C12: -150050 | D12: 461471 | E12: 75.46
A13: 68 Kazne, upravne mjere i ostali prihodi | B13: 65 | C13: 0 | D13: 65 | E13: 100
A14: 7 Prihodi od prodaje nefinancijske imovine | B14: 0 | C14: 3345 | D14: 3345 | E14: 0
A15: 72 Prihodi od prodaje proizvedene dugotrajne imovine | B15: 0 | C15: 3345 | D15: 3345 | E15: 0
A16: SVEUKUPNO PRIHODI | B16: 839134 | C16: -122332 | D16: 716802 | E16: 85.42
A17: 3 Rashodi poslovanja | B17: 826434 | C17: -169371 | D17: 657063 | E17: 79.51
A18: 31 Rashodi za zaposlene | B18: 346298 | C18: -94996 | D18: 251302 | E18: 72.57
A19: 32 Materijalni rashodi | B19: 478286 | C19: -73875 | D19: 404411 | E19: 84.55
... A25: SVEUKUPNO RASHODI | B25: 849434 | C25: -106921 | D25: 742513 | E25: 87.41
A30: Naziv | B30: Plan 2026. | C30: Povećanje / smanjenje | D30: Novi plan 2026. | E30: Indeks % (3/1)
A31: A2. PRIHODI I RASHODI PREMA IZVORIMA FINANCIRANJA
A32: Izvor: 1 OPĆI PRIHODI I PRIMICI | B32: 625771 | C32: -100050 | D32: 525721 | E32: 84.01
A33: Izvor: 11 Opći prihodi i primici | B33: 625771 | C33: -100050 | D33: 525721 | E33: 84.01
A34: Izvor: 3 VLASTITI PRIHODI | B34: 48365 | C34: -45000 | D34: 3365 | E34: 6.96
A35: Izvor: 31 Vlastiti prihodi | B35: 48365 | C35: -45000 | D35: 3365 | E35: 6.96
A36: Izvor: 4 PRIHODI ZA POSEBNE NAMJENE | B36: 5000 | C36: -5000 | D36: 0 | E36: 0
A37: Izvor: 43 Ostali prihodi za posebne namjene | B37: 5000 | C37: -5000 | D37: 0 | E37: 0
A38: Izvor: 5 POMOĆI | B38: 159998 | C38: 24373 | D38: 184371 | E38: 115.23
A39: Izvor: 50 Pomoći iz državnog proračuna | B39: 0 | C39: 40000 | D39: 40000
A40: Izvor: 51 Programi Unije | B40: 52870 | C40: 0 | D40: 52870 | E40: 100
A41: Izvor: 52 Ostale pomoći | B41: 18410 | C41: 0 | D41: 18410 | E41: 100
A42: Izvor: 56 Fondovi EU | B42: 7968 | C42: 0 | D42: 7968 | E42: 100
A43: Izvor: 58 Instrumenti EU nove generacije | B43: 80750 | C43: -15627 | D43: 65123 | E43: 80.65
A44: Izvor: 7 PRIHODI OD PRODAJE ILI ZAMJENE NEFINANCIJSKE IMOVINE I NADOKNADE S OSNOVA OSIGURANJA | B44: 0 | C44: 3345 | D44: 3345 | E44: 0
A45: Izvor: 71 Prihodi od prodaje ili zamjene nefinancijske imovine i naknade s naslova osiguranja | B45: 0 | C45: 3345 | D45: 3345 | E45: 0
A46: SVEUKUPNO PRIHODI | B46: 839134 | C46: -122332 | D46: 716802 | E46: 85.42
A47: Izvor: 1 OPĆI PRIHODI I PRIMICI | B47: 625771 | C47: -100050 | D47: 525721 | E47: 84.01
A48: Izvor: 11 Opći prihodi i primici | B48: 625771 | C48: -100050 | D48: 525721 | E48: 84.01
A49: Izvor: 3 VLASTITI PRIHODI | B49: 48365 | C49: -45000 | D49: 3365 | E49: 6.96
A50: Izvor: 31 Vlastiti prihodi | B50: 48365 | C50: -45000 | D50: 3365 | E50: 6.96
A51: Izvor: 4 PRIHODI ZA POSEBNE NAMJENE | B51: 5000 | C51: -5000
A52: Izvor: 43 Ostali prihodi za posebne namjene | B52: 5000 | C52: -5000
A53: Izvor: 5 POMOĆI | B53: 170298 | C53: 39784 | D53: 210082 | E53: 123.36
A54: Izvor: 50 Pomoći iz državnog proračuna | C54: 43653 | D54: 43653
A55: Izvor: 51 Programi Unije | B55: 59470 | C55: 1399 | D55: 60869 | E55: 102.35
A56: Izvor: 52 Ostale pomoći | B56: 18410 | C56: 10355 | D56: 28765 | E56: 156.25
A57: Izvor: 56 Fondovi EU | B57: 11668 | C57: 4 | D57: 11672 | E57: 100.03
A58: Izvor: 58 Instrumenti EU nove generacije | B58: 80750 | C58: -15627 | D58: 65123 | E58: 80.65
A59: Izvor: 7 PRIHODI OD PRODAJE ILI ZAMJENE NEFINANCIJSKE IMOVINE I NADOKNADE S OSNOVA OSIGURANJA | B59: 0 | C59: 3345 | D59: 3345 | E59: 0
A60: Izvor: 71 Prihodi od prodaje ili zamjene nefinancijske imovine i naknade s naslova osiguranja | B60: 0 | C60: 3345 | D60: 3345 | E60: 0
A61: SVEUKUPNO RASHODI | B61: 849434 | C61: -106921 | D61: 742513 | E61: 87.41

Sheet Rashodi po funkcijskoj
A1: A3. RASHODI PREMA FUNKCIJSKOJ KLASIFIKACIJI
A3: Naziv | B3: Plan 2026. | C3: Povećanje / smanjenje | D3: Novi plan 2026. | E3: Indeks % (3/1)
A4: Funk. klas: 04 Ekonomski poslovi | B4: 13968 | C4: 4 | D4: 13972 | E4: 100.03
A5: 047 Ostale industrije | B5: 13968 | C5: 4 | D5: 13972 | E5: 100.03
A6: Funk. klas: 05 Zaštita okoliša | B6: 835466 | C6: -106925 | D6: 728541 | E6: 87.2
A7: 054 Zaštita bioraznolikosti i krajolika | B7: 498380 | C7: -109220 | D7: 389160 | E7: 78.08
A8: 056 Poslovi i usluge zaštite okoliša koji nisu drugdje svrstani | B8: 337086 | C8: 2295 | D8: 339381 | E8: 100.68
A9: SVEUKUPNO RASHODI | B9: 849434 | C9: -106921 | D9: 742513 | E9: 87.41

Sheet Račun financiranja
A1: B. RAČUN FINANCIRANJA
A3: B1. RAČUN FINANCIRANJA PREMA EKONOMSKOJ KLASIFIKACIJI
A4: Opis | B4: =Sažetak!B14 -> Plan 2026. | C4: =Sažetak!C14 -> Povećenje/ smanjenje | D4: =Sažetak!D14 -> Novi plan 2026. | E4: =Sažetak!E14 -> Indeks %
A5: 1 | B5: 2 | C5: 3 | D5: 4 | E5: 5(4/2)
A6: 8 Primici od financijske imovine i zaduživanja | B6: 0 | C6: 0 | D6: 0 | E6: -
A7: 81 Primljeni povrati glavnica danih zajmova i depozita
A8: 84 Primici od zaduživanja
A9: 5 Izdaci za financijsku imovinu i otplate zajmova | B9: 0 | C9: 0 | D9: 0 | E9: -
A10: 53 Izdaci za dionice i udjele u glavnici
A11: 54 Izdaci za otplatu glavnice primljenih kredita i zajmova
A15: B2. RAČUN FINANCIRANJA PREMA IZVORIMA FINANCIRANJA
A16: Opis | B16: =Sažetak!B14 -> Plan 2026. | C16: =Sažetak!C14 -> Povećenje/ smanjenje | D16: =Sažetak!D14 -> Novi plan 2026. | E16: =Sažetak!E14 -> Indeks %
A17: 1 | B17: 2 | C17: 3 | D17: 4 | E17: 5(4/2)
A18: UKUPNO PRIMICI | B18: 0 | C18: 0 | D18: 0 | E18: -
A19: Izvor: 1 OPĆI PRIHODI I PRIMICI
A20: Izvor: 11 Opći prihodi i primici
A21: Izvor: 8 NAMJENSKI PRIMICI OD ZADUŽIVANJA
A22: Izvor: 81 Namjenski primici od zaduživanja
A24: UKUPNO IZDACI | B24: 0 | C24: 0 | D24: 0 | E24: -
A25: Izvor: 1 OPĆI PRIHODI I PRIMICI
A26: Izvor: 11 Opći prihodi i primici
A27: Izvor: 3 VLASTITI PRIHODI
A28: Izvor: 31 Vlastiti prihodi

Sheet Posebni dio
A2: II. POSEBNI DIO
A4: Članak 3.
A6: U članku 3. Financijskog plana Javne ustanove za upravljanje zaštićenim ijelovima prirode Varaždinske županije za 2026. godinu i projekcijama plana za 2027. i 2028. godinu, Rashodi i izdaci u Posebnom dijelu za 2026. godinu povećavaju se ili smanjuju prema proračunskim klasifikacijama, kako slijedi:
A7: Naziv | B7: Plan 2026. | C7: Povećanje /smanjenje | D7: Novi plan 2026. | E7: Indeks % 4=3/1
A8: SVEUKUPNO | B8: 849434 | C8: -106921 | D8: 742513 | E8: 87.41
A9: Razdjel: 014 UPRAVNI ODJEL ZA POLJOPRIVREDU I ZAŠTITU OKOLIŠA | B9: 849434 | C9: -106921 | D9: 742513 | E9: 87.41
A10: Glava: 01402 JAVNA USTANOVA ZA UPRAVLJANJE ZAŠTIĆENIM DIJELOVIMA PRIRODE | B10: 849434 | C10: -106921 | D10: 742513 | E10: 87.41
A11: Izvor: 11 Opći prihodi i primici | B11: 625771 | C11: -100050 | D11: 525721 | E11: 84.01
A12: Izvor: 31 Vlastiti prihodi | B12: 48365 | C12: -45000 | D12: 3365 | E12: 6.96
A13: Izvor: 43 Ostali prihodi za posebne namjene | B13: 5000 | C13: -5000 | D13: 0 | E13: 0
A14: Izvor: 50 Pomoći iz državnog proračuna | B14: 0 | C14: 43653 | D14: 43653 | E14: 0
A15: Izvor: 51 Programi Unije | B15: 59470 | C15: 1399 | D15: 60869 | E15: 102.35
A16: Izvor: 52 Ostale pomoći | B16: 18410 | C16: 10355 | D16: 28765 | E16: 156.25
A17: Izvor: 56 Fondovi EU | B17: 11668 | C17: 4 | D17: 11672 | E17: 100.03
A18: Izvor: 58 Instrumenti EU nove generacije | B18: 80750 | C18: -15627 | D18: 65123 | E18: 80.65
A19: Izvor: 71 Prihodi od prodaje ili zamjene nefinancijske imovine i naknade s naslova osiguranja | B19: 0 | C19: 3345 | D19: 3345 | E19: 0
... A105: 32 Materijalni rashodi | B105: 660 | C105: 0 | D105: 660 | E105: 100
A107: Članak 4.
A108: I. Izmjene i dopune Financijskog plana za 2026. godinu i projekcija za 2027. i 2028. godinu Javne ustanove za upravljanje zaštićenim
A109: dijelovima prirode Varaždinske županije smatraju se konačnim nakon donošenja I. izmjena i dopuna Proračuna Varaždinske županije za 2026. godinu i
A110: projekcija za 2027. i 2028. godinu na Županijskoj skupštini Varaždinske županije, a stupa na snagu datumom stupanja na snagu I. Izmjena i dopuna
A111: Proračuna Varaždinske županije za 2026. godinu i projekcija za 2027. i 2028. godinu.
A113: Članak 5.
A114: I. Izmjene i dopune Financijskog plana za 2026. godinu i projekcija za 2027. i 2028. godinu Javne ustanove za upravljanje zaštićenim dijelovima prirode
A115: Varaždinske županije objavit će se na mrežnoj stranici Javne ustanove za upravljanje zaštićenim dijelovima prirode Varaždinske županije.
C117: PREDSJEDNIK UPRAVNOG VIJEĆA
C118: Nenad Šantek, ing. geotehnike
A120: KLASA: 400-02/25-01/1
A121: UR. BROJ: 2186-1-15-26-8
A122: Varaždin, 28. rujna 2026.
